BEGIN:VCALENDAR
VERSION:2.0
PRODID:-//RIGHTHERE//CALENDARIZE IT V3.2//EN
BEGIN:VTIMEZONE
TZID:America/Vancouver
BEGIN:STANDARD
DTSTART:20251102T090000
TZOFFSETFROM:-0700
TZOFFSETTO:-0800
TZNAME:PST
END:STANDARD
BEGIN:DAYLIGHT
DTSTART:20260308T100000
TZOFFSETFROM:-0800
TZOFFSETTO:-0700
TZNAME:PDT
END:DAYLIGHT
BEGIN:STANDARD
DTSTART:20261101T090000
TZOFFSETFROM:-0700
TZOFFSETTO:-0800
TZNAME:PST
END:STANDARD
END:VTIMEZONE
BEGIN:VEVENT
UID:8350-events@ievma.org
DTSTART;TZID=America/Vancouver:20181015T190000
DTEND;TZID=America/Vancouver:20181015T200000
DTSTAMP;TZID=America/Vancouver:20181012T104808
SUMMARY:Trivia Night!
URL:https://ievma.org/events/trivia-night-2/
ORGANIZER;CN=IEVMA:MAILTO:inlandempirevma@gmail.com
END:VEVENT
END:VCALENDAR