BEGIN:VCALENDAR
VERSION:2.0
PRODID:-//RIGHTHERE//CALENDARIZE IT V3.2//EN
BEGIN:VTIMEZONE
TZID:America/Vancouver
BEGIN:STANDARD
DTSTART:20251102T090000
TZOFFSETFROM:-0700
TZOFFSETTO:-0800
TZNAME:PST
END:STANDARD
BEGIN:DAYLIGHT
DTSTART:20260308T100000
TZOFFSETFROM:-0800
TZOFFSETTO:-0700
TZNAME:PDT
END:DAYLIGHT
BEGIN:STANDARD
DTSTART:20261101T090000
TZOFFSETFROM:-0700
TZOFFSETTO:-0800
TZNAME:PST
END:STANDARD
END:VTIMEZONE
BEGIN:VEVENT
UID:8415-events@ievma.org
DTSTART;VALUE=DATE:20191125
DTEND;VALUE=DATE:20191125
DTSTAMP;TZID=America/Vancouver:20190827T170532
SUMMARY:IEVMA  QUARTERLY MEETING AND CE
URL:https://ievma.org/events/ievma-fall-quarterly-meeting-and-ce/
ORGANIZER;CN=IEVMA:MAILTO:inlandempirevma@gmail.com
END:VEVENT
END:VCALENDAR